BEGIN:VCALENDAR
VERSION:2.0
X-WR-CALNAME: Spectacles à venir
PRODID:GIGPRESS 2.0 WORDPRESS PLUGIN
CALSCALE:GREGORIAN
X-WR-TIMEZONE:Etc/GMT
METHOD:PUBLISH
BEGIN:VTIMEZONE
TZID:GMT
BEGIN:STANDARD
DTSTART:20071028T010000
TZOFFSETTO:+0000
TZOFFSETFROM:+0000
END:STANDARD
END:VTIMEZONE
BEGIN:VEVENT
SUMMARY:LA FORÊT DANS NOS TÊTES à Théâtre de Beaune
DESCRIPTION:Tout Public
LOCATION:Théâtre de Beaune\, 64 Rue de Lorraine\, Beaune\, FR
UID:20260429T170000Z-806-contact@ciegirouette.com
URL:http://www.ciegirouette.com/agenda
DTSTART;VALUE=DATE-TIME;TZID=GMT:20260429T170000Z
DTEND;VALUE=DATE-TIME;TZID=GMT:20260429T170000Z
DTSTAMP:20260424T095219Z
END:VEVENT
BEGIN:VEVENT
SUMMARY:LA FORÊT DANS NOS TÊTES à Théâtre de Beaune
DESCRIPTION:Notes: scolaire 
LOCATION:Théâtre de Beaune\, 64 Rue de Lorraine\, Beaune\, FR
UID:20260430T080000Z-807-contact@ciegirouette.com
URL:http://www.ciegirouette.com/agenda
DTSTART;VALUE=DATE-TIME;TZID=GMT:20260430T080000Z
DTEND;VALUE=DATE-TIME;TZID=GMT:20260430T080000Z
DTSTAMP:20260424T095219Z
END:VEVENT
BEGIN:VEVENT
SUMMARY:LA FORÊT DANS NOS TÊTES à Théâtre de Beaune
DESCRIPTION:Notes: scolaire 
LOCATION:Théâtre de Beaune\, 64 Rue de Lorraine\, Beaune\, FR
UID:20260430T123000Z-808-contact@ciegirouette.com
URL:http://www.ciegirouette.com/agenda
DTSTART;VALUE=DATE-TIME;TZID=GMT:20260430T123000Z
DTEND;VALUE=DATE-TIME;TZID=GMT:20260430T123000Z
DTSTAMP:20260424T095219Z
END:VEVENT
BEGIN:VEVENT
SUMMARY:ENSEIGNEMENTS SECONDAIRES à Rencontre des Jonglages
DESCRIPTION:
LOCATION:Rencontre des Jonglages\, Bondy\, FR
UID:20260516-863-contact@ciegirouette.com
URL:http://www.ciegirouette.com/agenda
DTSTART;VALUE=DATE;TZID=GMT:20260516
DTEND;VALUE=DATE;TZID=GMT:20260516
DTSTAMP:20260424T095219Z
END:VEVENT
BEGIN:VEVENT
SUMMARY:LA FORÊT DANS NOS TÊTES à Opéra de Saint Etienne (Théâtre Copeau)
DESCRIPTION:Notes: scolaire 
LOCATION:Opéra de Saint Etienne (Théâtre Copeau)\, Jardin des Plantes\, Saint-Étienne\, FR
UID:20260519T080000Z-809-contact@ciegirouette.com
URL:http://www.ciegirouette.com/agenda
DTSTART;VALUE=DATE-TIME;TZID=GMT:20260519T080000Z
DTEND;VALUE=DATE-TIME;TZID=GMT:20260519T080000Z
DTSTAMP:20260424T095219Z
END:VEVENT
BEGIN:VEVENT
SUMMARY:LA FORÊT DANS NOS TÊTES à Opéra de Saint Etienne (Théâtre Copeau)
DESCRIPTION:Notes: scolaire 
LOCATION:Opéra de Saint Etienne (Théâtre Copeau)\, Jardin des Plantes\, Saint-Étienne\, FR
UID:20260519T120000Z-810-contact@ciegirouette.com
URL:http://www.ciegirouette.com/agenda
DTSTART;VALUE=DATE-TIME;TZID=GMT:20260519T120000Z
DTEND;VALUE=DATE-TIME;TZID=GMT:20260519T120000Z
DTSTAMP:20260424T095219Z
END:VEVENT
BEGIN:VEVENT
SUMMARY:LA FORÊT DANS NOS TÊTES à Opéra de Saint Etienne (Théâtre Copeau)
DESCRIPTION:Tout Public
LOCATION:Opéra de Saint Etienne (Théâtre Copeau)\, Jardin des Plantes\, Saint-Étienne\, FR
UID:20260520T130000Z-811-contact@ciegirouette.com
URL:http://www.ciegirouette.com/agenda
DTSTART;VALUE=DATE-TIME;TZID=GMT:20260520T130000Z
DTEND;VALUE=DATE-TIME;TZID=GMT:20260520T130000Z
DTSTAMP:20260424T095219Z
END:VEVENT
BEGIN:VEVENT
SUMMARY:LA FORÊT DANS NOS TÊTES à Opéra de Saint Etienne (Théâtre Copeau)
DESCRIPTION:Notes: scolaire 
LOCATION:Opéra de Saint Etienne (Théâtre Copeau)\, Jardin des Plantes\, Saint-Étienne\, FR
UID:20260521T080000Z-813-contact@ciegirouette.com
URL:http://www.ciegirouette.com/agenda
DTSTART;VALUE=DATE-TIME;TZID=GMT:20260521T080000Z
DTEND;VALUE=DATE-TIME;TZID=GMT:20260521T080000Z
DTSTAMP:20260424T095219Z
END:VEVENT
BEGIN:VEVENT
SUMMARY:LA FORÊT DANS NOS TÊTES à Opéra de Saint Etienne (Théâtre Copeau)
DESCRIPTION:Notes: scolaire 
LOCATION:Opéra de Saint Etienne (Théâtre Copeau)\, Jardin des Plantes\, Saint-Étienne\, FR
UID:20260521T120000Z-814-contact@ciegirouette.com
URL:http://www.ciegirouette.com/agenda
DTSTART;VALUE=DATE-TIME;TZID=GMT:20260521T120000Z
DTEND;VALUE=DATE-TIME;TZID=GMT:20260521T120000Z
DTSTAMP:20260424T095219Z
END:VEVENT
BEGIN:VEVENT
SUMMARY:LA FORÊT DANS NOS TÊTES à Opéra de Saint Etienne (Théâtre Copeau)
DESCRIPTION:Notes: scolaire 
LOCATION:Opéra de Saint Etienne (Théâtre Copeau)\, Jardin des Plantes\, Saint-Étienne\, FR
UID:20260522T080000Z-816-contact@ciegirouette.com
URL:http://www.ciegirouette.com/agenda
DTSTART;VALUE=DATE-TIME;TZID=GMT:20260522T080000Z
DTEND;VALUE=DATE-TIME;TZID=GMT:20260522T080000Z
DTSTAMP:20260424T095219Z
END:VEVENT
BEGIN:VEVENT
SUMMARY:LA FORÊT DANS NOS TÊTES à Opéra de Saint Etienne (Théâtre Copeau)
DESCRIPTION:Notes: scolaire 
LOCATION:Opéra de Saint Etienne (Théâtre Copeau)\, Jardin des Plantes\, Saint-Étienne\, FR
UID:20260522T120000Z-815-contact@ciegirouette.com
URL:http://www.ciegirouette.com/agenda
DTSTART;VALUE=DATE-TIME;TZID=GMT:20260522T120000Z
DTEND;VALUE=DATE-TIME;TZID=GMT:20260522T120000Z
DTSTAMP:20260424T095219Z
END:VEVENT
BEGIN:VEVENT
SUMMARY:ENSEIGNEMENTS SECONDAIRES à Festival PrinTemps de Paroles
DESCRIPTION:
LOCATION:Festival PrinTemps de Paroles\, Communes de Marne-Et-Gondoire\, FR
UID:20260523T113000Z-862-contact@ciegirouette.com
URL:http://www.ciegirouette.com/agenda
DTSTART;VALUE=DATE-TIME;TZID=GMT:20260523T113000Z
DTEND;VALUE=DATE-TIME;TZID=GMT:20260523T113000Z
DTSTAMP:20260424T095219Z
END:VEVENT
BEGIN:VEVENT
SUMMARY:LA FORÊT DANS NOS TÊTES à Opéra de Saint Etienne (Théâtre Copeau)
DESCRIPTION:Tout Public
LOCATION:Opéra de Saint Etienne (Théâtre Copeau)\, Jardin des Plantes\, Saint-Étienne\, FR
UID:20260523T140000Z-812-contact@ciegirouette.com
URL:http://www.ciegirouette.com/agenda
DTSTART;VALUE=DATE-TIME;TZID=GMT:20260523T140000Z
DTEND;VALUE=DATE-TIME;TZID=GMT:20260523T140000Z
DTSTAMP:20260424T095219Z
END:VEVENT
BEGIN:VEVENT
SUMMARY:ENSEIGNEMENTS SECONDAIRES à Festival PrinTemps de Paroles
DESCRIPTION:
LOCATION:Festival PrinTemps de Paroles\, Communes de Marne-Et-Gondoire\, FR
UID:20260523T143500Z-861-contact@ciegirouette.com
URL:http://www.ciegirouette.com/agenda
DTSTART;VALUE=DATE-TIME;TZID=GMT:20260523T143500Z
DTEND;VALUE=DATE-TIME;TZID=GMT:20260523T143500Z
DTSTAMP:20260424T095219Z
END:VEVENT
BEGIN:VEVENT
SUMMARY:ENSEIGNEMENTS SECONDAIRES à Festival PrinTemps de Paroles
DESCRIPTION:
LOCATION:Festival PrinTemps de Paroles\, Communes de Marne-Et-Gondoire\, FR
UID:20260524T104500Z-860-contact@ciegirouette.com
URL:http://www.ciegirouette.com/agenda
DTSTART;VALUE=DATE-TIME;TZID=GMT:20260524T104500Z
DTEND;VALUE=DATE-TIME;TZID=GMT:20260524T104500Z
DTSTAMP:20260424T095219Z
END:VEVENT
BEGIN:VEVENT
SUMMARY:ENSEIGNEMENTS SECONDAIRES à Festival PrinTemps de Paroles
DESCRIPTION:
LOCATION:Festival PrinTemps de Paroles\, Communes de Marne-Et-Gondoire\, FR
UID:20260524T143000Z-859-contact@ciegirouette.com
URL:http://www.ciegirouette.com/agenda
DTSTART;VALUE=DATE-TIME;TZID=GMT:20260524T143000Z
DTEND;VALUE=DATE-TIME;TZID=GMT:20260524T143000Z
DTSTAMP:20260424T095219Z
END:VEVENT
BEGIN:VEVENT
SUMMARY:ENSEIGNEMENTS SECONDAIRES à La Fête du Cirque
DESCRIPTION:
LOCATION:La Fête du Cirque\, Saint Romain de Colbosc\, FR
UID:20260606-858-contact@ciegirouette.com
URL:http://www.ciegirouette.com/agenda
DTSTART;VALUE=DATE;TZID=GMT:20260606
DTEND;VALUE=DATE;TZID=GMT:20260606
DTSTAMP:20260424T095219Z
END:VEVENT
BEGIN:VEVENT
SUMMARY:ENSEIGNEMENTS SECONDAIRES à La Fête du Cirque
DESCRIPTION:
LOCATION:La Fête du Cirque\, Saint Romain de Colbosc\, FR
UID:20260607-857-contact@ciegirouette.com
URL:http://www.ciegirouette.com/agenda
DTSTART;VALUE=DATE;TZID=GMT:20260607
DTEND;VALUE=DATE;TZID=GMT:20260607
DTSTAMP:20260424T095219Z
END:VEVENT
BEGIN:VEVENT
SUMMARY:ENSEIGNEMENTS SECONDAIRES à Viva Cité
DESCRIPTION:
LOCATION:Viva Cité\, Cour de l'Atelier 231\, Sotteville-Lès-Rouen (76)\, FR
UID:20260626-856-contact@ciegirouette.com
URL:http://www.ciegirouette.com/agenda
DTSTART;VALUE=DATE;TZID=GMT:20260626
DTEND;VALUE=DATE;TZID=GMT:20260626
DTSTAMP:20260424T095219Z
END:VEVENT
BEGIN:VEVENT
SUMMARY:ENSEIGNEMENTS SECONDAIRES à Viva Cité
DESCRIPTION:
LOCATION:Viva Cité\, Cour de l'Atelier 231\, Sotteville-Lès-Rouen (76)\, FR
UID:20260627-855-contact@ciegirouette.com
URL:http://www.ciegirouette.com/agenda
DTSTART;VALUE=DATE;TZID=GMT:20260627
DTEND;VALUE=DATE;TZID=GMT:20260627
DTSTAMP:20260424T095219Z
END:VEVENT
BEGIN:VEVENT
SUMMARY:ENSEIGNEMENTS SECONDAIRES à Viva Cité
DESCRIPTION:
LOCATION:Viva Cité\, Cour de l'Atelier 231\, Sotteville-Lès-Rouen (76)\, FR
UID:20260628-854-contact@ciegirouette.com
URL:http://www.ciegirouette.com/agenda
DTSTART;VALUE=DATE;TZID=GMT:20260628
DTEND;VALUE=DATE;TZID=GMT:20260628
DTSTAMP:20260424T095219Z
END:VEVENT
BEGIN:VEVENT
SUMMARY:ENSEIGNEMENTS SECONDAIRES à Festival Les Virevoltés
DESCRIPTION:
LOCATION:Festival Les Virevoltés\, Vire\, FR
UID:20260630-853-contact@ciegirouette.com
URL:http://www.ciegirouette.com/agenda
DTSTART;VALUE=DATE;TZID=GMT:20260630
DTEND;VALUE=DATE;TZID=GMT:20260630
DTSTAMP:20260424T095219Z
END:VEVENT
BEGIN:VEVENT
SUMMARY:ENSEIGNEMENTS SECONDAIRES à Festival Les Virevoltés
DESCRIPTION:
LOCATION:Festival Les Virevoltés\, Vire\, FR
UID:20260701-852-contact@ciegirouette.com
URL:http://www.ciegirouette.com/agenda
DTSTART;VALUE=DATE;TZID=GMT:20260701
DTEND;VALUE=DATE;TZID=GMT:20260701
DTSTAMP:20260424T095219Z
END:VEVENT
BEGIN:VEVENT
SUMMARY:ENSEIGNEMENTS SECONDAIRES à Festival Les Virevoltés
DESCRIPTION:
LOCATION:Festival Les Virevoltés\, Vire\, FR
UID:20260702-851-contact@ciegirouette.com
URL:http://www.ciegirouette.com/agenda
DTSTART;VALUE=DATE;TZID=GMT:20260702
DTEND;VALUE=DATE;TZID=GMT:20260702
DTSTAMP:20260424T095219Z
END:VEVENT
BEGIN:VEVENT
SUMMARY:ENSEIGNEMENTS SECONDAIRES à Les Vendredis de l'Eté
DESCRIPTION:
LOCATION:Les Vendredis de l'Eté\, Bagnoles de l'Orne\, FR
UID:20260703-850-contact@ciegirouette.com
URL:http://www.ciegirouette.com/agenda
DTSTART;VALUE=DATE;TZID=GMT:20260703
DTEND;VALUE=DATE;TZID=GMT:20260703
DTSTAMP:20260424T095219Z
END:VEVENT
BEGIN:VEVENT
SUMMARY:ENSEIGNEMENTS SECONDAIRES à Les Sorties de Bain
DESCRIPTION:
LOCATION:Les Sorties de Bain\, Granville\, FR
UID:20260704-849-contact@ciegirouette.com
URL:http://www.ciegirouette.com/agenda
DTSTART;VALUE=DATE;TZID=GMT:20260704
DTEND;VALUE=DATE;TZID=GMT:20260704
DTSTAMP:20260424T095219Z
END:VEVENT
BEGIN:VEVENT
SUMMARY:ENSEIGNEMENTS SECONDAIRES à Les Sorties de Bain
DESCRIPTION:
LOCATION:Les Sorties de Bain\, Granville\, FR
UID:20260705-848-contact@ciegirouette.com
URL:http://www.ciegirouette.com/agenda
DTSTART;VALUE=DATE;TZID=GMT:20260705
DTEND;VALUE=DATE;TZID=GMT:20260705
DTSTAMP:20260424T095219Z
END:VEVENT
BEGIN:VEVENT
SUMMARY:ENSEIGNEMENTS SECONDAIRES à Festival les Mascarets
DESCRIPTION:
LOCATION:Festival les Mascarets\, Pont Audemer\, FR
UID:20260706-847-contact@ciegirouette.com
URL:http://www.ciegirouette.com/agenda
DTSTART;VALUE=DATE;TZID=GMT:20260706
DTEND;VALUE=DATE;TZID=GMT:20260706
DTSTAMP:20260424T095219Z
END:VEVENT
BEGIN:VEVENT
SUMMARY:ENSEIGNEMENTS SECONDAIRES à Festival En Bastides
DESCRIPTION:
LOCATION:Festival En Bastides\, Sauveterre\, FR
UID:20260805-845-contact@ciegirouette.com
URL:http://www.ciegirouette.com/agenda
DTSTART;VALUE=DATE;TZID=GMT:20260805
DTEND;VALUE=DATE;TZID=GMT:20260805
DTSTAMP:20260424T095219Z
END:VEVENT
BEGIN:VEVENT
SUMMARY:ENSEIGNEMENTS SECONDAIRES à Festival en Bastides
DESCRIPTION:
LOCATION:Festival en Bastides\, Najac\, FR
UID:20260805-846-contact@ciegirouette.com
URL:http://www.ciegirouette.com/agenda
DTSTART;VALUE=DATE;TZID=GMT:20260805
DTEND;VALUE=DATE;TZID=GMT:20260805
DTSTAMP:20260424T095219Z
END:VEVENT
BEGIN:VEVENT
SUMMARY:ENSEIGNEMENTS SECONDAIRES à Festival Les Rendez Vous de l'Eté
DESCRIPTION:
LOCATION:Festival Les Rendez Vous de l'Eté\, Flers\, FR
UID:20260808-844-contact@ciegirouette.com
URL:http://www.ciegirouette.com/agenda
DTSTART;VALUE=DATE;TZID=GMT:20260808
DTEND;VALUE=DATE;TZID=GMT:20260808
DTSTAMP:20260424T095219Z
END:VEVENT
BEGIN:VEVENT
SUMMARY:ENSEIGNEMENTS SECONDAIRES à Festival Les Rendez Vous de l'Eté
DESCRIPTION:
LOCATION:Festival Les Rendez Vous de l'Eté\, Flers\, FR
UID:20260809-843-contact@ciegirouette.com
URL:http://www.ciegirouette.com/agenda
DTSTART;VALUE=DATE;TZID=GMT:20260809
DTEND;VALUE=DATE;TZID=GMT:20260809
DTSTAMP:20260424T095219Z
END:VEVENT
BEGIN:VEVENT
SUMMARY:ENSEIGNEMENTS SECONDAIRES à L'Allegro
DESCRIPTION:
LOCATION:L'Allegro\, Miribel\, FR
UID:20260919-842-contact@ciegirouette.com
URL:http://www.ciegirouette.com/agenda
DTSTART;VALUE=DATE;TZID=GMT:20260919
DTEND;VALUE=DATE;TZID=GMT:20260919
DTSTAMP:20260424T095219Z
END:VEVENT
END:VCALENDAR